BEGIN:VCALENDAR
VERSION:2.0
PRODID:-//Plone.org//NONSGML plone.app.event//EN
X-WR-TIMEZONE:Europe/Vienna
BEGIN:VEVENT
SUMMARY:Big Band – Konzert
DTSTART;VALUE=DATE-TIME:20230623T190000Z
DTEND;VALUE=DATE-TIME:20230623T203000Z
DTSTAMP;VALUE=DATE-TIME:20260425T035211Z
UID:489909d60f3646ca93c5e033e989f736@127.0.0.1:6081
CREATED;VALUE=DATE-TIME:20230610T113201Z
DESCRIPTION:Konzert Big Band der Kantonsschule Zug
LAST-MODIFIED;VALUE=DATE-TIME:20230610T113150Z
LOCATION:Aula Kantonsschule Zug\, Lüssiweg 24\, 6300 Zug
URL:https://www.zg.ch/behoerden/direktion-fur-bildung-und-kultur/ksz/dokum
 ente/veranstaltungen/big-band-konzert-1
END:VEVENT
END:VCALENDAR
