BEGIN:VCALENDAR
VERSION:2.0
PRODID:-//Plone.org//NONSGML plone.app.event//EN
X-WR-TIMEZONE:Europe/Vienna
BEGIN:VEVENT
SUMMARY:5. - 7. Schuljahr: Berufsschau / Berufsorientierung
DTSTART;VALUE=DATE-TIME:20190402T173000Z
DTEND;VALUE=DATE-TIME:20190402T193000Z
DTSTAMP;VALUE=DATE-TIME:20260426T030523Z
UID:36e8bbcbce9c406bb9beacd1ad80a3b3@127.0.0.1:10150
CREATED;VALUE=DATE-TIME:20190320T144801Z
DESCRIPTION:Berufsschau\, Berufsorientierung\, Veranstaltung
LAST-MODIFIED;VALUE=DATE-TIME:20221025T082702Z
LOCATION:Saal Dorfmatt\, 6343 Rotkreuz
URL:https://www.zg.ch/behoerden/gemeinden/hunenberg/de/schulen/organisatio
 n/agenda/5-7-schuljahr-berufsschau-berufsorientierung-1
END:VEVENT
END:VCALENDAR
