BEGIN:VCALENDAR
VERSION:2.0
PRODID:-//Plone.org//NONSGML plone.app.event//EN
X-WR-TIMEZONE:Europe/Vienna
BEGIN:VEVENT
SUMMARY:Abschlussfeier der 3. Oberstufe
DTSTART;VALUE=DATE-TIME:20170705T160000Z
DTEND;VALUE=DATE-TIME:20170705T190000Z
DTSTAMP;VALUE=DATE-TIME:20260426T030511Z
UID:b961136ceba34eb19c4ce07adf13960f@localhost:10100
CREATED;VALUE=DATE-TIME:20150806T092210Z
DESCRIPTION:Schulschluss 3. Oberstufe\, Sekundar- und Realklassen
LAST-MODIFIED;VALUE=DATE-TIME:20221025T082706Z
URL:https://www.zg.ch/behoerden/gemeinden/hunenberg/de/schulen/organisatio
 n/agenda/abschlussfeier-der-3-oberstufe-1
END:VEVENT
END:VCALENDAR
