BEGIN:VCALENDAR
VERSION:2.0
PRODID:-//Plone.org//NONSGML plone.app.event//EN
X-WR-TIMEZONE:Europe/Vienna
BEGIN:VEVENT
SUMMARY:Abschlussfeier der 3. Oberstufe
DTSTART;VALUE=DATE-TIME:20180705T160000Z
DTEND;VALUE=DATE-TIME:20180705T190000Z
DTSTAMP;VALUE=DATE-TIME:20260426T030512Z
UID:7c37ec5e7e72416487a2eb95cf0c3d78@127.0.0.1:10150
CREATED;VALUE=DATE-TIME:20170806T163401Z
DESCRIPTION:Abschluss Oberstufe
LAST-MODIFIED;VALUE=DATE-TIME:20221025T082706Z
URL:https://www.zg.ch/behoerden/gemeinden/hunenberg/de/schulen/organisatio
 n/agenda/abschlussfeier-der-3-oberstufe-2
END:VEVENT
END:VCALENDAR
