BEGIN:VCALENDAR
VERSION:2.0
PRODID:-//Plone.org//NONSGML plone.app.event//EN
X-WR-TIMEZONE:Europe/Vienna
BEGIN:VEVENT
SUMMARY:Abschlussfeier der 3. Oberstufe
DTSTART;VALUE=DATE-TIME:20190703T160000Z
DTEND;VALUE=DATE-TIME:20190703T190000Z
DTSTAMP;VALUE=DATE-TIME:20260426T030511Z
UID:550d7a7ee2e44bdfba7ef890d83252e7@127.0.0.1:10150
CREATED;VALUE=DATE-TIME:20180920T134001Z
DESCRIPTION:Abschlussfeier\, Oberstufe
LAST-MODIFIED;VALUE=DATE-TIME:20221025T082707Z
URL:https://www.zg.ch/behoerden/gemeinden/hunenberg/de/schulen/organisatio
 n/agenda/abschlussfeier-der-3-oberstufe-3
END:VEVENT
END:VCALENDAR
