BEGIN:VCALENDAR
VERSION:2.0
PRODID:-//Plone.org//NONSGML plone.app.event//EN
X-WR-TIMEZONE:Europe/Vienna
BEGIN:VEVENT
SUMMARY:Allerheiligen
DTSTART;VALUE=DATE:20191031
DTEND;VALUE=DATE:20191101
DTSTAMP;VALUE=DATE-TIME:20260424T232238Z
UID:2c8cb46b7b26439186bdb2ea15ab33d2@127.0.0.1:10150
CREATED;VALUE=DATE-TIME:20190820T095601Z
DESCRIPTION:Frei\, Allerheiligen\, Ferien\, Schule
LAST-MODIFIED;VALUE=DATE-TIME:20221025T082709Z
URL:https://www.zg.ch/behoerden/gemeinden/hunenberg/de/schulen/organisatio
 n/agenda/allerheiligen-1
END:VEVENT
END:VCALENDAR
