BEGIN:VCALENDAR
VERSION:2.0
PRODID:-//Plone.org//NONSGML plone.app.event//EN
X-WR-TIMEZONE:Europe/Vienna
BEGIN:VEVENT
SUMMARY:Auffahrtsferien
DTSTART;VALUE=DATE:20160504
DTEND;VALUE=DATE:20160509
DTSTAMP;VALUE=DATE-TIME:20260424T232413Z
UID:89b72d06ad4641d880979afca9911c41@localhost:10100
CREATED;VALUE=DATE-TIME:20160822T154658Z
DESCRIPTION:Schulferien\, Ferien\, schulfrei\, frei
LAST-MODIFIED;VALUE=DATE-TIME:20221025T082718Z
URL:https://www.zg.ch/behoerden/gemeinden/hunenberg/de/schulen/organisatio
 n/agenda/copy10_of_sommerferien
END:VEVENT
END:VCALENDAR
