BEGIN:VCALENDAR
VERSION:2.0
PRODID:-//Plone.org//NONSGML plone.app.event//EN
X-WR-TIMEZONE:Europe/Vienna
BEGIN:VEVENT
SUMMARY:Sommerferien
DTSTART;VALUE=DATE:20160708
DTEND;VALUE=DATE:20160822
DTSTAMP;VALUE=DATE-TIME:20260425T010519Z
UID:f80bfc891cb84b3eab08976abba7f617@localhost:10100
CREATED;VALUE=DATE-TIME:20160822T161900Z
DESCRIPTION:Schulferien\, Sommerferien\, schulfrei\, frei
LAST-MODIFIED;VALUE=DATE-TIME:20221025T082718Z
URL:https://www.zg.ch/behoerden/gemeinden/hunenberg/de/schulen/organisatio
 n/agenda/copy11_of_sommerferien
END:VEVENT
END:VCALENDAR
