BEGIN:VCALENDAR
VERSION:2.0
PRODID:-//Plone.org//NONSGML plone.app.event//EN
X-WR-TIMEZONE:Europe/Vienna
BEGIN:VEVENT
SUMMARY:Frühlingsferien
DTSTART;VALUE=DATE:20170414
DTEND;VALUE=DATE:20170501
DTSTAMP;VALUE=DATE-TIME:20260424T232338Z
UID:5f0d9dfb4a8e4d97a0a0f05c9f60f4a6@localhost:10100
CREATED;VALUE=DATE-TIME:20150414T093933Z
DESCRIPTION:Schulferien\, Ferien\, schulfrei\, frei
LAST-MODIFIED;VALUE=DATE-TIME:20221025T082722Z
URL:https://www.zg.ch/behoerden/gemeinden/hunenberg/de/schulen/organisatio
 n/agenda/copy2_of_sommerferien
END:VEVENT
END:VCALENDAR
