BEGIN:VCALENDAR
VERSION:2.0
PRODID:-//Plone.org//NONSGML plone.app.event//EN
X-WR-TIMEZONE:Europe/Vienna
BEGIN:VEVENT
SUMMARY:Weihnachtsferien
DTSTART;VALUE=DATE:20151218
DTEND;VALUE=DATE:20160104
DTSTAMP;VALUE=DATE-TIME:20260424T232358Z
UID:bfb0cdab3b3d44b98d4376e8c701cdcf@localhost:10100
CREATED;VALUE=DATE-TIME:20150414T094058Z
DESCRIPTION:Schulferien\, Ferien\, schulfrei\, frei
LAST-MODIFIED;VALUE=DATE-TIME:20221025T082725Z
URL:https://www.zg.ch/behoerden/gemeinden/hunenberg/de/schulen/organisatio
 n/agenda/copy3_of_sommerferien
END:VEVENT
END:VCALENDAR
