BEGIN:VCALENDAR
VERSION:2.0
PRODID:-//Plone.org//NONSGML plone.app.event//EN
X-WR-TIMEZONE:Europe/Vienna
BEGIN:VEVENT
SUMMARY:Auffahrtsferien
DTSTART;VALUE=DATE:20170524
DTEND;VALUE=DATE:20170529
DTSTAMP;VALUE=DATE-TIME:20260424T225904Z
UID:a568cd3a518447f3b4872a86047b69d6@localhost:10400
CREATED;VALUE=DATE-TIME:20150414T094435Z
DESCRIPTION:Schulferien\, Ferien\, schulfrei\, frei
LAST-MODIFIED;VALUE=DATE-TIME:20200129T215041Z
URL:https://www.zg.ch/behoerden/gemeinden/hunenberg/de/schulen/organisatio
 n/agenda/copy5_of_sommerferien
END:VEVENT
END:VCALENDAR
