BEGIN:VCALENDAR
VERSION:2.0
PRODID:-//Plone.org//NONSGML plone.app.event//EN
X-WR-TIMEZONE:Europe/Vienna
BEGIN:VEVENT
SUMMARY:Weihnachtsferien
DTSTART;VALUE=DATE:20161221
DTEND;VALUE=DATE:20170105
DTSTAMP;VALUE=DATE-TIME:20260424T225904Z
UID:cc1c9dd825f546348c9ceda312e1f7d0@localhost:10400
CREATED;VALUE=DATE-TIME:20160822T145959Z
DESCRIPTION:Schulferien\, Ferien\, schulfrei\, frei
LAST-MODIFIED;VALUE=DATE-TIME:20170411T171118Z
URL:https://www.zg.ch/behoerden/gemeinden/hunenberg/de/schulen/organisatio
 n/agenda/copy7_of_sommerferien
END:VEVENT
END:VCALENDAR
