BEGIN:VCALENDAR
VERSION:2.0
PRODID:-//Plone.org//NONSGML plone.app.event//EN
X-WR-TIMEZONE:Europe/Vienna
BEGIN:VEVENT
SUMMARY:Sportferien
DTSTART;VALUE=DATE:20170203
DTEND;VALUE=DATE:20170220
DTSTAMP;VALUE=DATE-TIME:20260424T232413Z
UID:461fbc34dc4e42d1908b5f63f2b30d15@localhost:10400
CREATED;VALUE=DATE-TIME:20160822T151919Z
DESCRIPTION:Schulferien\, Ferien\, schulfrei\, frei
LAST-MODIFIED;VALUE=DATE-TIME:20170411T171118Z
URL:https://www.zg.ch/behoerden/gemeinden/hunenberg/de/schulen/organisatio
 n/agenda/copy8_of_sommerferien
END:VEVENT
END:VCALENDAR
