BEGIN:VCALENDAR
VERSION:2.0
PRODID:-//Plone.org//NONSGML plone.app.event//EN
X-WR-TIMEZONE:Europe/Vienna
BEGIN:VEVENT
SUMMARY:Frühlingsferien
DTSTART;VALUE=DATE:20160415
DTEND;VALUE=DATE:20160502
DTSTAMP;VALUE=DATE-TIME:20260424T225904Z
UID:227ad0f52fb2427495d2123d97c03441@localhost:10400
CREATED;VALUE=DATE-TIME:20160822T154120Z
DESCRIPTION:Schulferien\, Ferien\, schulfrei\, frei
LAST-MODIFIED;VALUE=DATE-TIME:20170411T171119Z
URL:https://www.zg.ch/behoerden/gemeinden/hunenberg/de/schulen/organisatio
 n/agenda/copy9_of_sommerferien
END:VEVENT
END:VCALENDAR
