BEGIN:VCALENDAR
VERSION:2.0
PRODID:-//Plone.org//NONSGML plone.app.event//EN
X-WR-TIMEZONE:Europe/Vienna
BEGIN:VEVENT
SUMMARY:Abschlussfeier der 3. Oberstufe
DTSTART;VALUE=DATE-TIME:20160707T160000Z
DTEND;VALUE=DATE-TIME:20160707T190000Z
DTSTAMP;VALUE=DATE-TIME:20260425T174019Z
UID:6db3a82b24134fd491d6e3e39cf107b6@localhost:10400
CREATED;VALUE=DATE-TIME:20160822T160925Z
DESCRIPTION:Schulschluss 3. Oberstufe\, Sekundar- und Realklassen
LAST-MODIFIED;VALUE=DATE-TIME:20170411T171119Z
URL:https://www.zg.ch/behoerden/gemeinden/hunenberg/de/schulen/organisatio
 n/agenda/copy_of_abschlussfeier-der-3-oberstufe-1
END:VEVENT
END:VCALENDAR
