BEGIN:VCALENDAR
VERSION:2.0
PRODID:-//Plone.org//NONSGML plone.app.event//EN
X-WR-TIMEZONE:Europe/Vienna
BEGIN:VEVENT
SUMMARY:Herbstferien
DTSTART;VALUE=DATE:20151002
DTEND;VALUE=DATE:20151019
DTSTAMP;VALUE=DATE-TIME:20260424T225904Z
UID:6ec205aadb1c4bfabf99187c39da8a44@localhost:10400
CREATED;VALUE=DATE-TIME:20150414T093729Z
DESCRIPTION:Schulferien\, Ferien\, schulfrei\, frei
LAST-MODIFIED;VALUE=DATE-TIME:20200129T215038Z
URL:https://www.zg.ch/behoerden/gemeinden/hunenberg/de/schulen/organisatio
 n/agenda/copy_of_sommerferien
END:VEVENT
END:VCALENDAR
