BEGIN:VCALENDAR
VERSION:2.0
PRODID:-//Plone.org//NONSGML plone.app.event//EN
X-WR-TIMEZONE:Europe/Vienna
BEGIN:VEVENT
SUMMARY:Hünenberger Weihnachtsmarkt
DTSTART;VALUE=DATE-TIME:20181130T150000Z
DTEND;VALUE=DATE-TIME:20181130T210000Z
DTSTAMP;VALUE=DATE-TIME:20260425T174036Z
UID:06b2e5d016ba448aa0241325edf9a543@127.0.0.1:10150
CREATED;VALUE=DATE-TIME:20180813T140601Z
DESCRIPTION:Weihnachtsmarkt\, Veranstaltung
LAST-MODIFIED;VALUE=DATE-TIME:20180813T140424Z
URL:https://www.zg.ch/behoerden/gemeinden/hunenberg/de/schulen/organisatio
 n/agenda/huenenberger-weihnachtsmarkt-2
END:VEVENT
END:VCALENDAR
