BEGIN:VCALENDAR
VERSION:2.0
PRODID:-//Plone.org//NONSGML plone.app.event//EN
X-WR-TIMEZONE:Europe/Vienna
BEGIN:VEVENT
SUMMARY:Lehrerweiterbildung - kein Unterricht (schulfrei)
DTSTART;VALUE=DATE:20191126
DTEND;VALUE=DATE:20191127
DTSTAMP;VALUE=DATE-TIME:20260424T225537Z
UID:f7ab09902daf4a258094550a75aa2c12@127.0.0.1:10150
CREATED;VALUE=DATE-TIME:20190820T115201Z
DESCRIPTION:Lehrerweiterbildung\, Frei\, Unterrichtsfrei\, schulfrei
LAST-MODIFIED;VALUE=DATE-TIME:20190820T115056Z
URL:https://www.zg.ch/behoerden/gemeinden/hunenberg/de/schulen/organisatio
 n/agenda/lehrerweiterbildung-kein-unterricht-schulfrei-8
END:VEVENT
END:VCALENDAR
