BEGIN:VCALENDAR
VERSION:2.0
PRODID:-//Plone.org//NONSGML plone.app.event//EN
X-WR-TIMEZONE:Europe/Vienna
BEGIN:VEVENT
SUMMARY:Sommerferien
DTSTART;VALUE=DATE:20170707
DTEND;VALUE=DATE:20170821
DTSTAMP;VALUE=DATE-TIME:20260424T225859Z
UID:df41f1b90db64ca687156cfbb5560471@localhost:10400
CREATED;VALUE=DATE-TIME:20150414T093518Z
DESCRIPTION:Schulferien\, Sommerferien\, schulfrei\, frei
LAST-MODIFIED;VALUE=DATE-TIME:20200129T215037Z
URL:https://www.zg.ch/behoerden/gemeinden/hunenberg/de/schulen/organisatio
 n/agenda/sommerferien
END:VEVENT
END:VCALENDAR
