BEGIN:VCALENDAR
VERSION:2.0
PRODID:-//Plone.org//NONSGML plone.app.event//EN
X-WR-TIMEZONE:Europe/Vienna
BEGIN:VEVENT
SUMMARY:Freitag nach Fronleichnam\, Musikunterricht findet statt
DTSTART;VALUE=DATE:20240531
DTEND;VALUE=DATE:20240601
DTSTAMP;VALUE=DATE-TIME:20260426T000135Z
UID:655911c9c1e744e4af9c1017802cf1b5@127.0.0.1:6081
CREATED;VALUE=DATE-TIME:20231107T164006Z
DESCRIPTION:Freitag nach Fronleichnam\, Musikunterricht findet statt
LAST-MODIFIED;VALUE=DATE-TIME:20240430T130801Z
URL:https://www.zg.ch/behoerden/gemeinden/menzingen/de/schulen/angebote/mu
 sikschule/veranstaltungen-musikschule/fronleichnam-musikunterricht-findet-
 statt
END:VEVENT
END:VCALENDAR
