BEGIN:VCALENDAR
VERSION:2.0
PRODID:-//Plone.org//NONSGML plone.app.event//EN
X-WR-TIMEZONE:Europe/Vienna
BEGIN:VEVENT
SUMMARY:KFV Motorsägenkurs
DTSTART;VALUE=DATE:20210507
DTEND;VALUE=DATE:20210509
DTSTAMP;VALUE=DATE-TIME:20260422T184733Z
UID:o4uabs3v49chc8kvaud7p9k52o@google.com
CREATED;VALUE=DATE-TIME:20210101T211604Z
DESCRIPTION:KFV Motorsägenkurs
LAST-MODIFIED;VALUE=DATE-TIME:20230114T072420Z
URL:https://www.zg.ch/behoerden/gemeinden/risch-rotkreuz/feuerwehr-risch/o
 rganisation/agenda/kfv-motorsaegenkurs
END:VEVENT
END:VCALENDAR
